BEGIN:VCALENDAR
VERSION:2.0
PRODID:-//Filarmonica Bacau - ECPv6.15.11//NONSGML v1.0//EN
CALSCALE:GREGORIAN
METHOD:PUBLISH
X-ORIGINAL-URL:https://filarmonicabacau.ro
X-WR-CALDESC:Evenimente pentru Filarmonica Bacau
REFRESH-INTERVAL;VALUE=DURATION:PT1H
X-Robots-Tag:noindex
X-PUBLISHED-TTL:PT1H
BEGIN:VTIMEZONE
TZID:Europe/Bucharest
BEGIN:DAYLIGHT
TZOFFSETFROM:+0200
TZOFFSETTO:+0300
TZNAME:EEST
DTSTART:20240331T010000
END:DAYLIGHT
BEGIN:STANDARD
TZOFFSETFROM:+0300
TZOFFSETTO:+0200
TZNAME:EET
DTSTART:20241027T010000
END:STANDARD
BEGIN:DAYLIGHT
TZOFFSETFROM:+0200
TZOFFSETTO:+0300
TZNAME:EEST
DTSTART:20250330T010000
END:DAYLIGHT
BEGIN:STANDARD
TZOFFSETFROM:+0300
TZOFFSETTO:+0200
TZNAME:EET
DTSTART:20251026T010000
END:STANDARD
BEGIN:DAYLIGHT
TZOFFSETFROM:+0200
TZOFFSETTO:+0300
TZNAME:EEST
DTSTART:20260329T010000
END:DAYLIGHT
BEGIN:STANDARD
TZOFFSETFROM:+0300
TZOFFSETTO:+0200
TZNAME:EET
DTSTART:20261025T010000
END:STANDARD
END:VTIMEZONE
BEGIN:VEVENT
DTSTART;VALUE=DATE:20251204
DTEND;VALUE=DATE:20251205
DTSTAMP:20260422T153132
CREATED:20251127T091524Z
LAST-MODIFIED:20251127T091524Z
UID:8753-1764806400-1764892799@filarmonicabacau.ro
SUMMARY:Concert simfonic 04.12.2025
DESCRIPTION:JOI\, 4 decembrie 2025\, ora 18:30 \nCentrul de Afaceri și Expoziții Bacău \nConcert simfonic\nDirijor – Sebastian Perlowski \nSoliști: \n\nCătălin Oprițoiu\, flaut\nMaya Maria Oprițoiu\, flaut\n\nÎn program: \n\nDomenico Cimarosa – Concert pentru două flaute și orchestră\nFranz Doppler – Fantezia Rigoletto pentru două flaute și orchestră\nGiuseppe Verdi – Uvertura Nabucco\nPiotr Ilici Ceaikovski – Romeo și Julieta
URL:https://filarmonicabacau.ro/eveniment/concert-simfonic-04-12-2025/
CATEGORIES:Concerte
END:VEVENT
BEGIN:VEVENT
DTSTART;VALUE=DATE:20251127
DTEND;VALUE=DATE:20251128
DTSTAMP:20260422T153132
CREATED:20251018T102247Z
LAST-MODIFIED:20251120T112330Z
UID:8750-1764201600-1764287999@filarmonicabacau.ro
SUMMARY:Concert dedicat Zilei Naționale a României
DESCRIPTION:JOI\, 27 noiembrie 2025\, ora 18:30 \nCentrul de Afaceri și Expoziții Bacău \nConcert dedicat Zilei Naționale a României\n  \n \n\nDirijor – Adrian Morar \nÎn program: \n\nMarțian Negrea – Suita „Prin munții Apuseni”\nGeorge Enescu – Rapsodia I-a\nTheodor Rogalski – Suita pentru orchestra Cinema
URL:https://filarmonicabacau.ro/eveniment/concert-dedicat-zilei-nationale-a-romaniei/
CATEGORIES:Concerte
END:VEVENT
BEGIN:VEVENT
DTSTART;VALUE=DATE:20251120
DTEND;VALUE=DATE:20251121
DTSTAMP:20260422T153132
CREATED:20251018T102139Z
LAST-MODIFIED:20251113T070604Z
UID:8747-1763596800-1763683199@filarmonicabacau.ro
SUMMARY:Concert simfonic 20.11.2025
DESCRIPTION:JOI\, 20 noiembrie 2025\, ora 18:30 \nCentrul de Afaceri și Expoziții Bacău \n  \n \n\nConcert simfonic\nDirijor – Tiran Nikogosyan \nSolist – Emil Stancu\, oboi \nÎn program: \n\nGioachino Rossini – Uvertura Italianca în Alger\nRichard Strauss – Concert pentru oboi și orchestra\nFelix Mendelssohn Bartholdy – Simfonia a IV – a
URL:https://filarmonicabacau.ro/eveniment/concert-simfonic-20-11-2025/
CATEGORIES:Concerte
END:VEVENT
BEGIN:VEVENT
DTSTART;VALUE=DATE:20251113
DTEND;VALUE=DATE:20251114
DTSTAMP:20260422T153132
CREATED:20251018T102032Z
LAST-MODIFIED:20251105T175503Z
UID:8744-1762992000-1763078399@filarmonicabacau.ro
SUMMARY:Concert simfonic 13.11.2025
DESCRIPTION:JOI\, 13 noiembrie 2025\, ora 18:30 \nCentrul de Afaceri și Expoziții Bacău \n \n\nConcert simfonic\nDirijor – Joonas Pitkänen \nSolistă – Maria Marica\, vioară \nÎn program: \n\nLudwig van Beethoven – Concertul pentru vioară și orchestră\nLudwig van Beethoven – Simfonia a IV-a\n\n 
URL:https://filarmonicabacau.ro/eveniment/concert-simfonic-13-11-2025/
CATEGORIES:Concerte
END:VEVENT
BEGIN:VEVENT
DTSTART;VALUE=DATE:20251106
DTEND;VALUE=DATE:20251107
DTSTAMP:20260422T153132
CREATED:20251018T101917Z
LAST-MODIFIED:20251101T220658Z
UID:8741-1762387200-1762473599@filarmonicabacau.ro
SUMMARY:Concert simfonic 06.11.2025
DESCRIPTION:JOI\, 6 noiembrie 2025\, ora 18:30 \nCentrul de Afaceri și Expoziții Bacău\n \nDirijor – Valentin Doni \nSolistă – Mihaela Manea\, pian \nÎn program: \n\nWolfgang Amadeus Mozart – Uvertura Nunta lui Figaro\nWolfgang Amadeus Mozart – Concert nr. 20 în re minor pentru pian și orchestră\nWolfgang Amadeus Mozart – Simfonia nr.39
URL:https://filarmonicabacau.ro/eveniment/concert-simfonic-06-11-2025/
CATEGORIES:Concerte
END:VEVENT
BEGIN:VEVENT
DTSTART;VALUE=DATE:20251030
DTEND;VALUE=DATE:20251031
DTSTAMP:20260422T153132
CREATED:20251010T052853Z
LAST-MODIFIED:20251101T220855Z
UID:8738-1761782400-1761868799@filarmonicabacau.ro
SUMMARY:Concert simfonic 30.10.2025
DESCRIPTION:JOI\, 30 octombrie 2025\, ora 18:30 \nCentrul de Afaceri și Expoziții Bacău \n \nConcert simfonic \nDirijor – Mihnea Ignat \nSolist – Remus Azoiței\, vioară \nÎn program: \n\nPiotr Ilici Ceaikovski – Concertul pentru vioară și orchestră\nLudwig van Beethoven – Simfonia a VI-a
URL:https://filarmonicabacau.ro/eveniment/concert-simfonic-30-10-2025/
CATEGORIES:Concerte
END:VEVENT
BEGIN:VEVENT
DTSTART;VALUE=DATE:20251020
DTEND;VALUE=DATE:20251024
DTSTAMP:20260422T153132
CREATED:20251010T052649Z
LAST-MODIFIED:20251017T110014Z
UID:8732-1760918400-1761263999@filarmonicabacau.ro
SUMMARY:Festivalul "Zilele Muzicii Contemporane"\, Ediția a 39-a
DESCRIPTION:Festivalul „Zilele Muzicii Contemporane”\nEdiția a 39-a\n20-23 octombrie\, 2025\n \nLUNI\, 20 octombrie\, ora 17:00\nCentrul de Cultură „George Apostu” Bacău\nRecital cameral\nAnsamblul FAGOTISSIMO\nÎn program lucrări de:\nAllan Stephenson\, Claudio Leonardi\, Zilvinas Smalys\, Ray Naessen \nMARȚI\, 21 octombrie 2025\, ORA 17:00\nCentrul de Cultură „George Apostu” Bacău\nRecital cameral\nAnsamblul ARCHAEUS\nÎn program lucrări de:\nLiviu Dănceanu\, Vladimir Beleaev\, Mihai Murariu\, Leonard Bernstein\, Francisco Mignone\, Dan Bălan \nJOI\, 23 octombrie 2025\, ORA 18:30\nCentrul de Afaceri și Expoziții Bacău\nConcert simfonic\nDirijor – Ovidiu Bălan\nSoliști:\nAdriana Porțeanu\, vioară\nȘtefan Cazacu\, violoncel\nÎn program:\nM.H. Panah – In every phase\nV. Munteanu – Sonată pentru vioară și orchestră\nF. Gulda – Concert pentru violoncel și orchestră de suflători
URL:https://filarmonicabacau.ro/eveniment/festivalul-zilele-muzicii-contemporane-editia-a-39-a/
CATEGORIES:Concerte
END:VEVENT
BEGIN:VEVENT
DTSTART;VALUE=DATE:20251016
DTEND;VALUE=DATE:20251017
DTSTAMP:20260422T153132
CREATED:20250908T161454Z
LAST-MODIFIED:20251008T190149Z
UID:8729-1760572800-1760659199@filarmonicabacau.ro
SUMMARY:Concert simfonic 16.10.2025
DESCRIPTION:JOI\, 16 octombrie 2025\, ora 18:30 \nCentrul de Afaceri și Expoziții Bacău \n \n  \nDirijor – Walter Hilgers \nSolist – Horia Maxim\, pian \nÎn program: \n\nGeorges Bizet – Jeux d’enfants\nMaurice Ravel – Concert în Sol Major pentru pian și orchestră\nFelix Mendelssohn Bartholdy – Simfonia a III-a
URL:https://filarmonicabacau.ro/eveniment/concert-simfonic-16-10-2025/
CATEGORIES:Concerte
END:VEVENT
BEGIN:VEVENT
DTSTART;VALUE=DATE:20251009
DTEND;VALUE=DATE:20251010
DTSTAMP:20260422T153132
CREATED:20250908T161427Z
LAST-MODIFIED:20250908T161427Z
UID:8726-1759968000-1760054399@filarmonicabacau.ro
SUMMARY:Concert simfonic 09.10.2025
DESCRIPTION:Concert simfonic extraordinar\nJOI\, 9 octombrie 2025\, ora 18:30 \nCentrul de Afaceri și Expoziții Bacău \n  \nDeschiderea stagiunii muzicale 2025-2026 \nDirijor – Tiberiu Soare \nSolist – Eugen Țichindelean\, vioară \nÎn program: \n\nJean Sibelius – Concert pentru vioară și orchestră\nNikolai Andreevici Rimski-Korsakov – Scheherazade
URL:https://filarmonicabacau.ro/eveniment/concert-simfonic-09-10-2025/
CATEGORIES:Concerte
END:VEVENT
BEGIN:VEVENT
DTSTART;VALUE=DATE:20251002
DTEND;VALUE=DATE:20251003
DTSTAMP:20260422T153132
CREATED:20250908T161358Z
LAST-MODIFIED:20250929T101858Z
UID:8723-1759363200-1759449599@filarmonicabacau.ro
SUMMARY:Concert simfonic 02.10.2025
DESCRIPTION:Închiderea stagiunii estivale 2025\nJOI\, 2 octombrie 2025\, ora 18:30 \nCentrul de Afaceri și Expoziții Bacău \n \n\nDirijor – Ovidiu Bălan \nÎn program: \n\nGioachino Rossini – Uvertura „Bărbierul din Sevilla”\nGioachino Rossini – Uvertura „Italianca în Alger”\nGioachino Rossini – Uvertura „Coțofana hoață”\nGiuseppe Verdi – Uvertura „Nabucco”\nGiuseppe Verdi – Uvertura „Traviata”\nGiuseppe Verdi – Uvertura „Forța destinului”\nGiuseppe Verdi – Uvertura „Vecerniile siciliene”
URL:https://filarmonicabacau.ro/eveniment/concert-simfonic-02-10-2025/
CATEGORIES:Concerte
END:VEVENT
BEGIN:VEVENT
DTSTART;VALUE=DATE:20250925
DTEND;VALUE=DATE:20250926
DTSTAMP:20260422T153132
CREATED:20250812T134448Z
LAST-MODIFIED:20250920T095716Z
UID:8710-1758758400-1758844799@filarmonicabacau.ro
SUMMARY:Concert simfonic 25.09.2025
DESCRIPTION:JOI\, 25 septembrie 2025\, ora 18:30\nBiserica Sfinții Apostoli „Petru și Paul” Bacău  \n \n  \nDirijor – Sergiu Spiridon \nÎn program: \n\nFranz von Suppé – Uvertura Cavaleria ușoară\nPiotr Ilici Ceaikovski – Suită din Lacul lebedelor (selecțiuni)\nGeorges Bizet – Suitele Carmen nr.1 și nr.2
URL:https://filarmonicabacau.ro/eveniment/concert-simfonic-25-09-2025/
CATEGORIES:Concerte
END:VEVENT
BEGIN:VEVENT
DTSTART;VALUE=DATE:20250921
DTEND;VALUE=DATE:20250922
DTSTAMP:20260422T153132
CREATED:20250813T113651Z
LAST-MODIFIED:20250814T115444Z
UID:8713-1758412800-1758499199@filarmonicabacau.ro
SUMMARY:Concert simfonic 21.09.2025
DESCRIPTION:FESTIVALUL INTERNAȚIONAL „GEORGE ENESCU”\, Ediția a 27-a\nDUMINICĂ\, 21 septembrie 2025\, ora 13:00\nSALA RADIO\, BUCUREȘTI \nConcert simfonic extraordinar\nDirijor: Omar El Jamali\nSolist: Marcel Johannes Kits\, violoncel \nÎn program: \n\nTiberiu Olah – Simfonia nr.1\nPiotr Ilici Ceaikovski – Variațiunile rococo pentru violoncel și orchestră\nSerghei Prokofiev – Suita Romeo și Julieta
URL:https://filarmonicabacau.ro/eveniment/concert-simfonic-21-09-2025/
CATEGORIES:Concerte
END:VEVENT
BEGIN:VEVENT
DTSTART;VALUE=DATE:20250918
DTEND;VALUE=DATE:20250919
DTSTAMP:20260422T153132
CREATED:20250812T133541Z
LAST-MODIFIED:20250826T154154Z
UID:8704-1758153600-1758239999@filarmonicabacau.ro
SUMMARY:Concert simfonic 18.09.2025
DESCRIPTION:FESTIVALUL INTERNAȚIONAL „GEORGE ENESCU”\, Ediția a 27-a\nJOI\, 18 septembrie 2025\, ora 18:30\nCentrul de Afaceri și Expoziții Bacău \n \nConcert simfonic extraordinar\nDirijor: Omar El Jamali\nSolist: Marcel Johannes Kits\, violoncel\nÎn program:\nTiberiu Olah – Simfonia nr.1\nPiotr Ilici Ceaikovski – Variațiunile rococo pentru violoncel și orchestră\nSerghei Prokofiev – Suita Romeo și Julieta
URL:https://filarmonicabacau.ro/eveniment/concert-simfonic-18-09-2025/
CATEGORIES:Concerte
END:VEVENT
BEGIN:VEVENT
DTSTART;VALUE=DATE:20250911
DTEND;VALUE=DATE:20250914
DTSTAMP:20260422T153132
CREATED:20250812T133131Z
LAST-MODIFIED:20250908T160738Z
UID:8701-1757548800-1757807999@filarmonicabacau.ro
SUMMARY:FESTIVALUL INTERNAȚIONAL "ENESCU\, ORFEUL MOLDAV"
DESCRIPTION:Ediția a XLVI-a\, 11-13 septembrie 2025\n  \n \n\n●JOI\, 11 septembrie 2025\, ora 18:30\nCentrul de Afaceri și Expoziții Bacău\nConcert simfonic\nDirijor – Ovidiu Bălan\nSolist – Remus Azoiței\, vioară\nÎn program:\nLudwig van Beethoven – Uvertura Leonora III\nJohann Sebastian Bach – Concert în Mi Major pentru vioară și orchestră\nGeorge Enescu – Baladă pentru vioară și orchestră\nJohannes Brahms – Simfonia a II-a \n●VINERI\, 12 septembrie 2025\, ora 17:00\nMuzeul Național „George Enescu” – Secția „Dumitru și Alice Rosetti Tescanu – George Enescu”\, Tescani\nRecital cameral\nViniciu Moroianu – pian\nÎn program:\nGeorge Enescu – Sonata nr.3 în Re Major op.24\nJohann Sebastian Bach – Variațiunile Goldberg BWV 988 \n●SÂMBĂTĂ\, 13 septembrie 2025\, ora 17:00\nMuzeul Național „George Enescu” – Secția „Dumitru și Alice Rosetti Tescanu – George Enescu”\, Tescani\nRecital cameral\nKira Haltenwanger\, vioară\nKarla Haltenwanger\, pian\nÎn program:\nTomaso Antonio Vitali – Ciaccona în sol minor\nLudwig van Beethoven – Sonata pentru vioară și pian în La Major op.30\nNiccoló Paganini – La Campanella\nJohannes Brahms – Scherzo în do minor (din sonata F.A.E.)\nGeorge Enescu – Balada pentru vioară și pian\nGeorge Enescu – Impromptu concertant\nPablo Sarasate – Fantezia de concert Carmen
URL:https://filarmonicabacau.ro/eveniment/festivalul-international-enescu-orfeul-moldav/
CATEGORIES:Concerte
END:VEVENT
BEGIN:VEVENT
DTSTART;VALUE=DATE:20250829
DTEND;VALUE=DATE:20250901
DTSTAMP:20260422T153133
CREATED:20250812T132727Z
LAST-MODIFIED:20250814T114350Z
UID:8698-1756425600-1756684799@filarmonicabacau.ro
SUMMARY:Concerte 29-31 august 2025
DESCRIPTION:Festivalul Serilor Băcăuane\, Ediția a IV-a\, 2025\n \n  \n●VINERI\, 29 august 2025\, ora 21:00\nPiața Tricolorului\n„IN MY VILLAGE” SIMFONIC\nOrchestra Filarmonicii „Mihail Jora” Bacău și Luiza Zan Quintet\nDirijor – Andrei Petrache\nSolistă – Luiza Zan \n●SÂMBĂTĂ\, 30 august 2025\, ora 20:30\nPiața Tricolorului\n•ANSAMBLUL DE PERCUȚIE „SPIRIT” ȘI ALEXANDRU MICU\, ȚAMBAL \n•GROOVE GARDEN by Sorin Zlat\nSorin Zlat Band\nSolist: Robert Patai \n●DUMINICĂ\, 31 august 2025\, ora 21:00\nPiața Tricolorului\nBERE GRATIS SIMFONIC\nOrchestra Filarmonicii „Mihail Jora” Bacău\nDirijor: Alexandru Ilie
URL:https://filarmonicabacau.ro/eveniment/concerte-29-31-august-2025/
CATEGORIES:Concerte
END:VEVENT
BEGIN:VEVENT
DTSTART;TZID=Europe/Bucharest:20250812T080000
DTEND;TZID=Europe/Bucharest:20250812T170000
DTSTAMP:20260422T153133
CREATED:20250812T134231Z
LAST-MODIFIED:20250812T134321Z
UID:8707-1754985600-1755018000@filarmonicabacau.ro
SUMMARY:Concert 21.09.2025
DESCRIPTION:FESTIVALUL INTERNAȚIONAL „GEORGE ENESCU”\, Ediția a 27-a\nDUMINICĂ\, 21 septembrie 2025\, ora 13:00\nSALA RADIO\, BUCUREȘTI \nConcert simfonic extraordinar\nDirijor: Omar El Jamali\nSolist: Marcel Johannes Kits\, violoncel\nÎn program: \n\nTiberiu Olah – Simfonia nr.1\nPiotr Ilici Ceaikovski – Variațiunile rococo pentru violoncel și orchestră\nSerghei Prokofiev – Suita Romeo și Julieta
URL:https://filarmonicabacau.ro/eveniment/concert-21-09-2025/
CATEGORIES:Concerte
END:VEVENT
BEGIN:VEVENT
DTSTART;TZID=Europe/Bucharest:20250619T183000
DTEND;TZID=Europe/Bucharest:20250619T183000
DTSTAMP:20260422T153133
CREATED:20250203T181826Z
LAST-MODIFIED:20250205T210214Z
UID:8059-1750357800-1750357800@filarmonicabacau.ro
SUMMARY:Concert simfonic extraordinar - Închiderea stagiunii muzicale 2024-2025 / Dirijor – Sander Teepen / Solistă – Sarah Nemțanu
DESCRIPTION:Solistă – Sarah Nemțanu\, vioară \nÎn program: \nHector Berlioz- Uvertura Carnaval roman \nCamille Saint-Saens- Concertul nr.3 pentru vioară și orchestră \nCesar Franck- Simfonia în re \n\nLocație: Centrul de Afaceri și Expoziții Bacău
URL:https://filarmonicabacau.ro/eveniment/concert-simfonic-extraordinar-inchiderea-stagiunii-muzicale-2024-2025-centrul-de-afaceri-si-expozitii-bacau-dirijor-sander-teepen/
CATEGORIES:Concerte
END:VEVENT
BEGIN:VEVENT
DTSTART;TZID=Europe/Bucharest:20250612T183000
DTEND;TZID=Europe/Bucharest:20250612T183000
DTSTAMP:20260422T153133
CREATED:20250203T181732Z
LAST-MODIFIED:20250205T210134Z
UID:8057-1749753000-1749753000@filarmonicabacau.ro
SUMMARY:Concert simfonic / Dirijor – Victor Elroy Lopez / Solist - Anna Gutowska
DESCRIPTION:Solist – Anna Gutowska\, vioară \nÎn program: De stabilit \n\nLocație: Centrul de Afaceri și Expoziții Bacău
URL:https://filarmonicabacau.ro/eveniment/concert-simfonic-centrul-de-afaceri-si-expozitii-bacau-dirijor-victor-elroy-lopez/
CATEGORIES:Concerte
END:VEVENT
BEGIN:VEVENT
DTSTART;TZID=Europe/Bucharest:20250605T183000
DTEND;TZID=Europe/Bucharest:20250605T183000
DTSTAMP:20260422T153133
CREATED:20250203T181644Z
LAST-MODIFIED:20250205T210008Z
UID:8055-1749148200-1749148200@filarmonicabacau.ro
SUMMARY:Concert simfonic / Dirijor – Dominic Grier / Solist – Octavian Lup
DESCRIPTION:Solist – Octavian Lup\, violoncel \nÎn program: \nWolfgang Amadeus Mozart- Uvertura Cosi fan tutte \nPiotr Ilici Ceaikovski- Variațiunile rococo pentru violoncel și orchestră \nPiotr Ilici Ceaikovski- Aria lui Lenski din opera \,\,Evgheni Oneghin” \nJohannes Brahms- Simfonia a IV-a \n\nLocație: Centrul de Afaceri și Expoziții Bacău
URL:https://filarmonicabacau.ro/eveniment/concert-simfonic-centrul-de-afaceri-si-expozitii-bacau-dirijor-dominic-grier/
CATEGORIES:Concerte
END:VEVENT
BEGIN:VEVENT
DTSTART;TZID=Europe/Bucharest:20250529T183000
DTEND;TZID=Europe/Bucharest:20250529T183000
DTSTAMP:20260422T153133
CREATED:20250203T181525Z
LAST-MODIFIED:20250205T205905Z
UID:8053-1748543400-1748543400@filarmonicabacau.ro
SUMMARY:Concert dedicat Zilei de 1 Iunie / Dirijor – Valentin Doni
DESCRIPTION:De stabilit
URL:https://filarmonicabacau.ro/eveniment/concert-dedicat-zilei-de-1-iunie-dirijor-valentin-doni/
CATEGORIES:Concerte
END:VEVENT
BEGIN:VEVENT
DTSTART;TZID=Europe/Bucharest:20250522T183000
DTEND;TZID=Europe/Bucharest:20250522T183000
DTSTAMP:20260422T153133
CREATED:20250203T181439Z
LAST-MODIFIED:20250205T205826Z
UID:8051-1747938600-1747938600@filarmonicabacau.ro
SUMMARY:Concert simfonic / Dirijor – Tiberiu Soare / Solist - Joe Cristophe
DESCRIPTION:Solist – Joe Cristophe\, clarinet \nÎn program: \nWolfgang Amadeus Mozart- Uvertura Don Giovanni \nWolfgang Amadeus Mozart- Concert pentru clarinet și orchestră \nJoseph Haydn- Simfonia Nr.100 în Do major \n\nLocație: Centrul de Afaceri și Expoziții Bacău
URL:https://filarmonicabacau.ro/eveniment/concert-simfonic-centrul-de-afaceri-si-expozitii-bacau-dirijor-tiberiu-soare/
CATEGORIES:Concerte
END:VEVENT
BEGIN:VEVENT
DTSTART;TZID=Europe/Bucharest:20250516T183000
DTEND;TZID=Europe/Bucharest:20250516T183000
DTSTAMP:20260422T153133
CREATED:20250203T181318Z
LAST-MODIFIED:20250205T205646Z
UID:8049-1747420200-1747420200@filarmonicabacau.ro
SUMMARY:Concert cu elevii Colegiului Național de Artă \,\,George Apostu” Bacău / Dirijor – Ovidiu Bălan
DESCRIPTION:De stabilit
URL:https://filarmonicabacau.ro/eveniment/concert-cu-elevii-colegiului-national-de-arta-george-apostu-bacau-dirijor-ovidiu-balan/
CATEGORIES:Concerte
END:VEVENT
BEGIN:VEVENT
DTSTART;TZID=Europe/Bucharest:20250515T183000
DTEND;TZID=Europe/Bucharest:20250515T183000
DTSTAMP:20260422T153133
CREATED:20250203T181231Z
LAST-MODIFIED:20250514T121226Z
UID:8047-1747333800-1747333800@filarmonicabacau.ro
SUMMARY:Concert simfonic / Dirijor – Cristian Mandeal / Soliști: Vlad Rațiu și Oxana Corjos
DESCRIPTION:Soliști \nVlad Rațiu\, contrabas \nOxana Corjos\, pian \nÎn program: \nJohann Baptist Vanhal- Concert în Re major pentru contrabas și orchestră \nDmitri Shostakovich- Concertul nr.2 pentru pian și orchestră \nJohannes Brahms- Simfonia a III-a \n\nLocație: Centrul de Afaceri și Expoziții Bacău
URL:https://filarmonicabacau.ro/eveniment/concert-simfonic-centrul-de-afaceri-si-expozitii-bacau-dirijor-cristian-mandeal/
CATEGORIES:Concerte
ATTACH;FMTTYPE=image/jpeg:https://filarmonicabacau.ro/storage/2025/02/15-mai.jpg
END:VEVENT
BEGIN:VEVENT
DTSTART;TZID=Europe/Bucharest:20250508T183000
DTEND;TZID=Europe/Bucharest:20250508T183000
DTSTAMP:20260422T153133
CREATED:20250203T181058Z
LAST-MODIFIED:20250514T122749Z
UID:8045-1746729000-1746729000@filarmonicabacau.ro
SUMMARY:Concert simfonic / Dirijor- Gheorghe Costin / Solistă – Mihaela Manea
DESCRIPTION:Solistă – Mihaela Manea\, pian \nÎn program: \nRobert Schumann- Concert pentru pian și orchestră \nPiotr Ilici Ceaikovski- Suita Lacul lebedelor\, op.20 \nLeo Delibes- Suitele Coppelia nr.1 și nr. 2 (selecțiuni) \n\nLocație: Centrul de Afaceri și Expoziții Bacău
URL:https://filarmonicabacau.ro/eveniment/concert-simfonic-centrul-de-afaceri-si-expozitii-bacau-dirijor-gheorghe-costin/
CATEGORIES:Concerte
ATTACH;FMTTYPE=image/jpeg:https://filarmonicabacau.ro/storage/2025/02/8-mai.jpg
END:VEVENT
BEGIN:VEVENT
DTSTART;TZID=Europe/Bucharest:20250501T183000
DTEND;TZID=Europe/Bucharest:20250501T183000
DTSTAMP:20260422T153133
CREATED:20250203T180959Z
LAST-MODIFIED:20250514T122918Z
UID:8043-1746124200-1746124200@filarmonicabacau.ro
SUMMARY:Concert simfonic / Dirijor- Miran Vaupotic / Solist – Remus Azoiței
DESCRIPTION:Solist – Remus Azoiței\, vioară \nÎn program: \nJohannes Brahms-Concert pentru vioară și orchestră \nFelix Mendelssohn Bartholdy – Simfonia a III-a \n\nLocație: Centrul de Afaceri și Expoziții Bacău
URL:https://filarmonicabacau.ro/eveniment/concert-simfonic-centrul-de-afaceri-si-expozitii-bacau-dirijor-miran-vaupotic/
CATEGORIES:Concerte
ATTACH;FMTTYPE=image/jpeg:https://filarmonicabacau.ro/storage/2025/02/1-mai.jpg
END:VEVENT
BEGIN:VEVENT
DTSTART;TZID=Europe/Bucharest:20250424T183000
DTEND;TZID=Europe/Bucharest:20250424T183000
DTSTAMP:20260422T153133
CREATED:20250203T180624Z
LAST-MODIFIED:20250514T122955Z
UID:8041-1745519400-1745519400@filarmonicabacau.ro
SUMMARY:Concert simfonic / Dirijor – Mihail Agafița / Solist – Dan Iulian Druțac
DESCRIPTION:Solist – Dan Iulian Druțac\, vioară \nÎn program: \nLudwig van Beethoven- Concert pentru vioară și orchestră \nPiotr Ilici Ceaikovski- Simfonia a VI-a \n\nLocație: Centrul de Afaceri și Expoziții Bacău
URL:https://filarmonicabacau.ro/eveniment/concert-simfonic-centrul-de-afaceri-si-expozitii-bacau-dirijor-mihail-agafita/
CATEGORIES:Concerte
ATTACH;FMTTYPE=image/jpeg:https://filarmonicabacau.ro/storage/2025/02/24-aprilie.jpg
END:VEVENT
BEGIN:VEVENT
DTSTART;TZID=Europe/Bucharest:20250410T183000
DTEND;TZID=Europe/Bucharest:20250410T183000
DTSTAMP:20260422T153133
CREATED:20250203T180447Z
LAST-MODIFIED:20250514T123228Z
UID:8037-1744309800-1744309800@filarmonicabacau.ro
SUMMARY:Concert simfonic / Dirijor – Azis Sadikovic / Solist – Ion Storojenco
DESCRIPTION:Solist – Ion Storojenco\, violoncel \nÎn program: \nEdward Elgar- Concert pentru violoncel și orchestră \nGustav Mahler- Simfonia I-a \n\nLocație: Centrul de Afaceri și Expoziții Bacău
URL:https://filarmonicabacau.ro/eveniment/concert-simfonic-caex-dirijor-azis-sadikovic/
CATEGORIES:Concerte
ATTACH;FMTTYPE=image/jpeg:https://filarmonicabacau.ro/storage/2025/02/10-aprilie.jpg
END:VEVENT
BEGIN:VEVENT
DTSTART;TZID=Europe/Bucharest:20250406T183000
DTEND;TZID=Europe/Bucharest:20250406T183000
DTSTAMP:20260422T153133
CREATED:20250203T180346Z
LAST-MODIFIED:20250327T072717Z
UID:8035-1743964200-1743964200@filarmonicabacau.ro
SUMMARY:Concert simfonic prepascal / Dirijor – Ovidiu Bălan
DESCRIPTION:În program: \nNikolai A. Rimski – Korsakov – Uvertura pascală \nGiuseppe Verdi – Uvertura Vecerniile siciliene \nJean Sibelius – Uvertura Finlandia \nAleksandr Porfirievici Borodin Dansuri polovțiene \n\nLocație: Teatrul de Vară \,\,Radu Beligan” Bacău
URL:https://filarmonicabacau.ro/eveniment/concert-simfonic-prepascal-teatrul-de-vara-radu-beligan-bacau-dirijor-ovidiu-balan/
CATEGORIES:Concerte
ATTACH;FMTTYPE=image/jpeg:https://filarmonicabacau.ro/storage/2025/02/WhatsApp-Image-2025-03-25-at-13.08.52.jpeg
END:VEVENT
BEGIN:VEVENT
DTSTART;TZID=Europe/Bucharest:20250403T183000
DTEND;TZID=Europe/Bucharest:20250403T183000
DTSTAMP:20260422T153133
CREATED:20250203T180247Z
LAST-MODIFIED:20250514T123314Z
UID:8033-1743705000-1743705000@filarmonicabacau.ro
SUMMARY:Concert de concerte / Dirijor – Ovidiu Bălan / Soliști: Ioan Luca\, Radu Țaga\, Andrei Văleanu\, Ioana Balașa și Carla Ungureanu
DESCRIPTION:Soliști \nIoan Luca\, corn \nRadu Țaga\, fagot \nAndrei Văleanu\, clarinet \nIoana Balașa\, flaut \nCarla Ungureanu\, pian \nÎn program: \nWolfgang Amadeus Mozart- Concert Nr.4 pentru corn și orchestră \nCarl Stamitz- Concertino pentru clarinet\, fagot și orchestră \nWolfgang Amadeus Mozart- Concert în Re major pentru flaut și orchestră \nWolfgang Amadeus Mozart – Concert Nr.23 pentru pian și orchestră \n\nLocație: Centrul de Afaceri și Expoziții Bacău
URL:https://filarmonicabacau.ro/eveniment/concert-de-concerte-centrul-de-afaceri-si-expozitii-bacau-dirijor-ovidiu-balan/
CATEGORIES:Concerte
ATTACH;FMTTYPE=image/jpeg:https://filarmonicabacau.ro/storage/2025/02/3-aprilie-1.jpg
END:VEVENT
BEGIN:VEVENT
DTSTART;TZID=Europe/Bucharest:20250327T183000
DTEND;TZID=Europe/Bucharest:20250327T183000
DTSTAMP:20260422T153133
CREATED:20250203T115128Z
LAST-MODIFIED:20250514T123346Z
UID:8024-1743100200-1743100200@filarmonicabacau.ro
SUMMARY:Concert simfonic / Dirijor – Leonard Boga / Soliști: Joidy Blanco și Georgiana Mihăilă
DESCRIPTION:Soliști \nJoidy Blanco\, flaut \nGeorgiana Mihăilă\, flaut \nÎn program: \nAntonin Dvorak- Poemul simfonic \,\,Vrăjitoarea de la amiază” \nFranz Doppler- Concert pentru două flaute și orchestră \nWolfgang Amadeus Mozart- Simfonia Nr. 40 \n\nLocație: Centrul de Afaceri și Expoziții Bacău
URL:https://filarmonicabacau.ro/eveniment/concert-simfonic-centrul-de-afaceri-si-expozitii-bacau-dirijor-leonard-boga/
CATEGORIES:Concerte
ATTACH;FMTTYPE=image/jpeg:https://filarmonicabacau.ro/storage/2025/02/27-martie.jpg
END:VEVENT
END:VCALENDAR