BEGIN:VCALENDAR
VERSION:2.0
PRODID:-//Filarmonica Bacau - ECPv6.15.11//NONSGML v1.0//EN
CALSCALE:GREGORIAN
METHOD:PUBLISH
X-WR-CALNAME:Filarmonica Bacau
X-ORIGINAL-URL:https://filarmonicabacau.ro
X-WR-CALDESC:Evenimente pentru Filarmonica Bacau
REFRESH-INTERVAL;VALUE=DURATION:PT1H
X-Robots-Tag:noindex
X-PUBLISHED-TTL:PT1H
BEGIN:VTIMEZONE
TZID:Europe/Bucharest
BEGIN:DAYLIGHT
TZOFFSETFROM:+0200
TZOFFSETTO:+0300
TZNAME:EEST
DTSTART:20240331T010000
END:DAYLIGHT
BEGIN:STANDARD
TZOFFSETFROM:+0300
TZOFFSETTO:+0200
TZNAME:EET
DTSTART:20241027T010000
END:STANDARD
BEGIN:DAYLIGHT
TZOFFSETFROM:+0200
TZOFFSETTO:+0300
TZNAME:EEST
DTSTART:20250330T010000
END:DAYLIGHT
BEGIN:STANDARD
TZOFFSETFROM:+0300
TZOFFSETTO:+0200
TZNAME:EET
DTSTART:20251026T010000
END:STANDARD
BEGIN:DAYLIGHT
TZOFFSETFROM:+0200
TZOFFSETTO:+0300
TZNAME:EEST
DTSTART:20260329T010000
END:DAYLIGHT
BEGIN:STANDARD
TZOFFSETFROM:+0300
TZOFFSETTO:+0200
TZNAME:EET
DTSTART:20261025T010000
END:STANDARD
END:VTIMEZONE
BEGIN:VEVENT
DTSTART;TZID=Europe/Bucharest:20250522T183000
DTEND;TZID=Europe/Bucharest:20250522T183000
DTSTAMP:20260422T190931
CREATED:20250203T181439Z
LAST-MODIFIED:20250205T205826Z
UID:8051-1747938600-1747938600@filarmonicabacau.ro
SUMMARY:Concert simfonic / Dirijor – Tiberiu Soare / Solist - Joe Cristophe
DESCRIPTION:Solist – Joe Cristophe\, clarinet \nÎn program: \nWolfgang Amadeus Mozart- Uvertura Don Giovanni \nWolfgang Amadeus Mozart- Concert pentru clarinet și orchestră \nJoseph Haydn- Simfonia Nr.100 în Do major \n\nLocație: Centrul de Afaceri și Expoziții Bacău
URL:https://filarmonicabacau.ro/eveniment/concert-simfonic-centrul-de-afaceri-si-expozitii-bacau-dirijor-tiberiu-soare/
CATEGORIES:Concerte
END:VEVENT
BEGIN:VEVENT
DTSTART;TZID=Europe/Bucharest:20250516T183000
DTEND;TZID=Europe/Bucharest:20250516T183000
DTSTAMP:20260422T190931
CREATED:20250203T181318Z
LAST-MODIFIED:20250205T205646Z
UID:8049-1747420200-1747420200@filarmonicabacau.ro
SUMMARY:Concert cu elevii Colegiului Național de Artă \,\,George Apostu” Bacău / Dirijor – Ovidiu Bălan
DESCRIPTION:De stabilit
URL:https://filarmonicabacau.ro/eveniment/concert-cu-elevii-colegiului-national-de-arta-george-apostu-bacau-dirijor-ovidiu-balan/
CATEGORIES:Concerte
END:VEVENT
BEGIN:VEVENT
DTSTART;TZID=Europe/Bucharest:20250515T183000
DTEND;TZID=Europe/Bucharest:20250515T183000
DTSTAMP:20260422T190931
CREATED:20250203T181231Z
LAST-MODIFIED:20250514T121226Z
UID:8047-1747333800-1747333800@filarmonicabacau.ro
SUMMARY:Concert simfonic / Dirijor – Cristian Mandeal / Soliști: Vlad Rațiu și Oxana Corjos
DESCRIPTION:Soliști \nVlad Rațiu\, contrabas \nOxana Corjos\, pian \nÎn program: \nJohann Baptist Vanhal- Concert în Re major pentru contrabas și orchestră \nDmitri Shostakovich- Concertul nr.2 pentru pian și orchestră \nJohannes Brahms- Simfonia a III-a \n\nLocație: Centrul de Afaceri și Expoziții Bacău
URL:https://filarmonicabacau.ro/eveniment/concert-simfonic-centrul-de-afaceri-si-expozitii-bacau-dirijor-cristian-mandeal/
CATEGORIES:Concerte
ATTACH;FMTTYPE=image/jpeg:https://filarmonicabacau.ro/storage/2025/02/15-mai.jpg
END:VEVENT
BEGIN:VEVENT
DTSTART;TZID=Europe/Bucharest:20250508T183000
DTEND;TZID=Europe/Bucharest:20250508T183000
DTSTAMP:20260422T190931
CREATED:20250203T181058Z
LAST-MODIFIED:20250514T122749Z
UID:8045-1746729000-1746729000@filarmonicabacau.ro
SUMMARY:Concert simfonic / Dirijor- Gheorghe Costin / Solistă – Mihaela Manea
DESCRIPTION:Solistă – Mihaela Manea\, pian \nÎn program: \nRobert Schumann- Concert pentru pian și orchestră \nPiotr Ilici Ceaikovski- Suita Lacul lebedelor\, op.20 \nLeo Delibes- Suitele Coppelia nr.1 și nr. 2 (selecțiuni) \n\nLocație: Centrul de Afaceri și Expoziții Bacău
URL:https://filarmonicabacau.ro/eveniment/concert-simfonic-centrul-de-afaceri-si-expozitii-bacau-dirijor-gheorghe-costin/
CATEGORIES:Concerte
ATTACH;FMTTYPE=image/jpeg:https://filarmonicabacau.ro/storage/2025/02/8-mai.jpg
END:VEVENT
BEGIN:VEVENT
DTSTART;TZID=Europe/Bucharest:20250501T183000
DTEND;TZID=Europe/Bucharest:20250501T183000
DTSTAMP:20260422T190931
CREATED:20250203T180959Z
LAST-MODIFIED:20250514T122918Z
UID:8043-1746124200-1746124200@filarmonicabacau.ro
SUMMARY:Concert simfonic / Dirijor- Miran Vaupotic / Solist – Remus Azoiței
DESCRIPTION:Solist – Remus Azoiței\, vioară \nÎn program: \nJohannes Brahms-Concert pentru vioară și orchestră \nFelix Mendelssohn Bartholdy – Simfonia a III-a \n\nLocație: Centrul de Afaceri și Expoziții Bacău
URL:https://filarmonicabacau.ro/eveniment/concert-simfonic-centrul-de-afaceri-si-expozitii-bacau-dirijor-miran-vaupotic/
CATEGORIES:Concerte
ATTACH;FMTTYPE=image/jpeg:https://filarmonicabacau.ro/storage/2025/02/1-mai.jpg
END:VEVENT
BEGIN:VEVENT
DTSTART;TZID=Europe/Bucharest:20250424T183000
DTEND;TZID=Europe/Bucharest:20250424T183000
DTSTAMP:20260422T190931
CREATED:20250203T180624Z
LAST-MODIFIED:20250514T122955Z
UID:8041-1745519400-1745519400@filarmonicabacau.ro
SUMMARY:Concert simfonic / Dirijor – Mihail Agafița / Solist – Dan Iulian Druțac
DESCRIPTION:Solist – Dan Iulian Druțac\, vioară \nÎn program: \nLudwig van Beethoven- Concert pentru vioară și orchestră \nPiotr Ilici Ceaikovski- Simfonia a VI-a \n\nLocație: Centrul de Afaceri și Expoziții Bacău
URL:https://filarmonicabacau.ro/eveniment/concert-simfonic-centrul-de-afaceri-si-expozitii-bacau-dirijor-mihail-agafita/
CATEGORIES:Concerte
ATTACH;FMTTYPE=image/jpeg:https://filarmonicabacau.ro/storage/2025/02/24-aprilie.jpg
END:VEVENT
BEGIN:VEVENT
DTSTART;TZID=Europe/Bucharest:20250410T183000
DTEND;TZID=Europe/Bucharest:20250410T183000
DTSTAMP:20260422T190931
CREATED:20250203T180447Z
LAST-MODIFIED:20250514T123228Z
UID:8037-1744309800-1744309800@filarmonicabacau.ro
SUMMARY:Concert simfonic / Dirijor – Azis Sadikovic / Solist – Ion Storojenco
DESCRIPTION:Solist – Ion Storojenco\, violoncel \nÎn program: \nEdward Elgar- Concert pentru violoncel și orchestră \nGustav Mahler- Simfonia I-a \n\nLocație: Centrul de Afaceri și Expoziții Bacău
URL:https://filarmonicabacau.ro/eveniment/concert-simfonic-caex-dirijor-azis-sadikovic/
CATEGORIES:Concerte
ATTACH;FMTTYPE=image/jpeg:https://filarmonicabacau.ro/storage/2025/02/10-aprilie.jpg
END:VEVENT
BEGIN:VEVENT
DTSTART;TZID=Europe/Bucharest:20250406T183000
DTEND;TZID=Europe/Bucharest:20250406T183000
DTSTAMP:20260422T190931
CREATED:20250203T180346Z
LAST-MODIFIED:20250327T072717Z
UID:8035-1743964200-1743964200@filarmonicabacau.ro
SUMMARY:Concert simfonic prepascal / Dirijor – Ovidiu Bălan
DESCRIPTION:În program: \nNikolai A. Rimski – Korsakov – Uvertura pascală \nGiuseppe Verdi – Uvertura Vecerniile siciliene \nJean Sibelius – Uvertura Finlandia \nAleksandr Porfirievici Borodin Dansuri polovțiene \n\nLocație: Teatrul de Vară \,\,Radu Beligan” Bacău
URL:https://filarmonicabacau.ro/eveniment/concert-simfonic-prepascal-teatrul-de-vara-radu-beligan-bacau-dirijor-ovidiu-balan/
CATEGORIES:Concerte
ATTACH;FMTTYPE=image/jpeg:https://filarmonicabacau.ro/storage/2025/02/WhatsApp-Image-2025-03-25-at-13.08.52.jpeg
END:VEVENT
BEGIN:VEVENT
DTSTART;TZID=Europe/Bucharest:20250403T183000
DTEND;TZID=Europe/Bucharest:20250403T183000
DTSTAMP:20260422T190931
CREATED:20250203T180247Z
LAST-MODIFIED:20250514T123314Z
UID:8033-1743705000-1743705000@filarmonicabacau.ro
SUMMARY:Concert de concerte / Dirijor – Ovidiu Bălan / Soliști: Ioan Luca\, Radu Țaga\, Andrei Văleanu\, Ioana Balașa și Carla Ungureanu
DESCRIPTION:Soliști \nIoan Luca\, corn \nRadu Țaga\, fagot \nAndrei Văleanu\, clarinet \nIoana Balașa\, flaut \nCarla Ungureanu\, pian \nÎn program: \nWolfgang Amadeus Mozart- Concert Nr.4 pentru corn și orchestră \nCarl Stamitz- Concertino pentru clarinet\, fagot și orchestră \nWolfgang Amadeus Mozart- Concert în Re major pentru flaut și orchestră \nWolfgang Amadeus Mozart – Concert Nr.23 pentru pian și orchestră \n\nLocație: Centrul de Afaceri și Expoziții Bacău
URL:https://filarmonicabacau.ro/eveniment/concert-de-concerte-centrul-de-afaceri-si-expozitii-bacau-dirijor-ovidiu-balan/
CATEGORIES:Concerte
ATTACH;FMTTYPE=image/jpeg:https://filarmonicabacau.ro/storage/2025/02/3-aprilie-1.jpg
END:VEVENT
BEGIN:VEVENT
DTSTART;TZID=Europe/Bucharest:20250327T183000
DTEND;TZID=Europe/Bucharest:20250327T183000
DTSTAMP:20260422T190931
CREATED:20250203T115128Z
LAST-MODIFIED:20250514T123346Z
UID:8024-1743100200-1743100200@filarmonicabacau.ro
SUMMARY:Concert simfonic / Dirijor – Leonard Boga / Soliști: Joidy Blanco și Georgiana Mihăilă
DESCRIPTION:Soliști \nJoidy Blanco\, flaut \nGeorgiana Mihăilă\, flaut \nÎn program: \nAntonin Dvorak- Poemul simfonic \,\,Vrăjitoarea de la amiază” \nFranz Doppler- Concert pentru două flaute și orchestră \nWolfgang Amadeus Mozart- Simfonia Nr. 40 \n\nLocație: Centrul de Afaceri și Expoziții Bacău
URL:https://filarmonicabacau.ro/eveniment/concert-simfonic-centrul-de-afaceri-si-expozitii-bacau-dirijor-leonard-boga/
CATEGORIES:Concerte
ATTACH;FMTTYPE=image/jpeg:https://filarmonicabacau.ro/storage/2025/02/27-martie.jpg
END:VEVENT
BEGIN:VEVENT
DTSTART;TZID=Europe/Bucharest:20250320T183000
DTEND;TZID=Europe/Bucharest:20250320T183000
DTSTAMP:20260422T190931
CREATED:20250203T115030Z
LAST-MODIFIED:20250514T123428Z
UID:8022-1742495400-1742495400@filarmonicabacau.ro
SUMMARY:Concert simfonic / Dirijor – Alexandru Ilie / Solist – Roman Reznik
DESCRIPTION:Solist – Roman Reznik\, fagot \nÎn program: \nBedrich Smetana- Vltava \nCarl Maria von Weber- Concert pentru fagot și orchestră \nAntonin Dvorak- Simfonia a VII-a \n\nLocație: Centrul de Afaceri și Expoziții Bacău
URL:https://filarmonicabacau.ro/eveniment/concert-simfonic-centrul-de-afaceri-si-expozitii-bacau-dirijor-alexandru-ilie/
CATEGORIES:Concerte
ATTACH;FMTTYPE=image/jpeg:https://filarmonicabacau.ro/storage/2025/02/20-martie.jpg
END:VEVENT
BEGIN:VEVENT
DTSTART;TZID=Europe/Bucharest:20250318T183000
DTEND;TZID=Europe/Bucharest:20250318T183000
DTSTAMP:20260422T190931
CREATED:20250203T114922Z
LAST-MODIFIED:20250514T123511Z
UID:8020-1742322600-1742322600@filarmonicabacau.ro
SUMMARY:Recital cameral / Solist - Remus Azoiței
DESCRIPTION:Remus Azoiței-vioară \nÎn program: \nMihai Ungureanu-pian \nLudwig van Beethoven- Sonata Primăverii nr.5\, op.24 \nPablo de Sarasate-Fantezia Carmen op.25 \nCesar Franck- Sonata pentru vioară și pian \n\nLocație: Centrul de Afaceri și Expoziții Bacău
URL:https://filarmonicabacau.ro/eveniment/recital-cameral-centrul-de-afaceri-si-expozitii-bacau/
CATEGORIES:Concerte
ATTACH;FMTTYPE=image/jpeg:https://filarmonicabacau.ro/storage/2025/02/18-martie.jpg
END:VEVENT
BEGIN:VEVENT
DTSTART;TZID=Europe/Bucharest:20250313T183000
DTEND;TZID=Europe/Bucharest:20250313T183000
DTSTAMP:20260422T190931
CREATED:20250203T114622Z
LAST-MODIFIED:20250514T123548Z
UID:8018-1741890600-1741890600@filarmonicabacau.ro
SUMMARY:Concert simfonic / Dirijor - Theo Wolters / Solist - Dragoș Bălan\, violoncel
DESCRIPTION:Solist – Dragoș Bălan\, violoncel \nÎn program: \nCarl Maria von Weber- Uvertura Oberon \nJoseph Haydn- Concert pentru  violoncel și orchestră în Do major \nLudwig van Beethoven- Simfonia a VI-a \n\nLocație: Centrul de Afaceri și Expoziții Bacău
URL:https://filarmonicabacau.ro/eveniment/concert-simfonic-centrul-de-afaceri-si-expozitii-bacau-dirijor-theo-wolters/
CATEGORIES:Concerte
ATTACH;FMTTYPE=image/jpeg:https://filarmonicabacau.ro/storage/2025/02/13-martie.jpg
END:VEVENT
BEGIN:VEVENT
DTSTART;TZID=Europe/Bucharest:20250306T183000
DTEND;TZID=Europe/Bucharest:20250306T183000
DTSTAMP:20260422T190931
CREATED:20250203T114524Z
LAST-MODIFIED:20250514T123631Z
UID:8016-1741285800-1741285800@filarmonicabacau.ro
SUMMARY:Concert simfonic dedicat Zilei de 8 martie / Dirijor- Valentin Doni / Soliști: Gabriela Iștoc și Emil Stancu
DESCRIPTION:Soliști \nGabriela Iștoc – soprană \nEmil Stancu – oboi \nÎn program: \nWolfgang Amadeus Mozart – Uvertura Flautul fermecat \nAmilcare Ponchielli- Capriccio pentru oboi și orchestră (Arr. Valentin Doni) \nPietro Mascagni- Intermezzo din Cavalleria Rusticana \nVincenzo Bellini- Casta diva \nFrancesco Cilea – Io son l’umile ancella \nGeorges Bizet- Intermezzo act 2  Georges Bizet – Intermezzo act 4 \nGiacomo Puccini- O mio babbino caro \nGiacomo Puccini- Vissi d’arte \nAntonin Dvorak- Dans slav nr.8 \nFranz Lehar- Vilja Lied \nFranz Lehar- Meine Lippen \nPiotr Ilici Ceaikovski- Valsul florilor \n\nLocație: Centrul de Afaceri și Expoziții Bacău
URL:https://filarmonicabacau.ro/eveniment/concert-simfonic-dedicat-zilei-de-8-martie-centrul-de-afaceri-si-expozitii-bacau-dirijor-valentin-doni/
CATEGORIES:Concerte
ATTACH;FMTTYPE=image/jpeg:https://filarmonicabacau.ro/storage/2025/02/6-mar.jpg
END:VEVENT
BEGIN:VEVENT
DTSTART;TZID=Europe/Bucharest:20250227T183000
DTEND;TZID=Europe/Bucharest:20250227T183000
DTSTAMP:20260422T190931
CREATED:20250203T114201Z
LAST-MODIFIED:20250514T123701Z
UID:8013-1740681000-1740681000@filarmonicabacau.ro
SUMMARY:Concert simfonic Argentinissimo- rădăcini / Dirijor – Radu Popa / Soliști: Analia Selis\, Mariano Castro și Jose Santillan
DESCRIPTION:Soliști \nAnalia Selis-voce \nMariano Castro-pian \nJose Santillan-chitară \n\nLocație: Teatrul de Vară \,\,Radu Beligan” Bacău
URL:https://filarmonicabacau.ro/eveniment/concert-simfonic-centrul-de-afaceri-si-expozitii-bacau-dirijor-radu-popa/
CATEGORIES:Concerte
ATTACH;FMTTYPE=image/jpeg:https://filarmonicabacau.ro/storage/2025/02/27-feb.jpg
END:VEVENT
BEGIN:VEVENT
DTSTART;TZID=Europe/Bucharest:20250220T183000
DTEND;TZID=Europe/Bucharest:20250220T183000
DTSTAMP:20260422T190931
CREATED:20250203T113938Z
LAST-MODIFIED:20250514T123734Z
UID:8011-1740076200-1740076200@filarmonicabacau.ro
SUMMARY:Concert simfonic / Dirijor – Huba Hollokoi / Solist – Ionuț Podgoreanu
DESCRIPTION:Solist – Ionuț Podgoreanu\, corn \nÎn program: \nFranz Liszt- Rapsodia maghiară nr.2 \nJiri Pauer- Concert pentru corn și orchestră \nModest Petrovici Musorgski- Tablouri dintr-o expoziție \n\nLocație: Centrul de Afaceri și Expoziții Bacău
URL:https://filarmonicabacau.ro/eveniment/concert-simfonic-centrul-de-afaceri-si-expozitii-bacau-dirijor-huba-hollokoi/
CATEGORIES:Concerte
ATTACH;FMTTYPE=image/jpeg:https://filarmonicabacau.ro/storage/2025/02/20-feb.jpg
END:VEVENT
BEGIN:VEVENT
DTSTART;TZID=Europe/Bucharest:20250213T183000
DTEND;TZID=Europe/Bucharest:20250213T183000
DTSTAMP:20260422T190931
CREATED:20250203T113753Z
LAST-MODIFIED:20250205T191606Z
UID:8009-1739471400-1739471400@filarmonicabacau.ro
SUMMARY:Concert simfonic / Dirijor – Sander Teepen / Solist – Remus Azoiței
DESCRIPTION:Solist – Remus Azoiței\, vioară \nÎn program: \nWolfgang Amadeus Mozart- Uvertura Nunta lui Figaro \nWolfgang Amadeus Mozart – Concertul nr. 4 pentru vioară și orchestră \nLudwig van Beethoven – Simfonia a VII-a \n\nLocație: Centrul de Afaceri și Expoziții Bacău
URL:https://filarmonicabacau.ro/eveniment/concert-simfonic-centrul-de-afaceri-si-expozitii-bacau-dirijor-sander-teepen/
CATEGORIES:Concerte
END:VEVENT
BEGIN:VEVENT
DTSTART;TZID=Europe/Bucharest:20250206T183000
DTEND;TZID=Europe/Bucharest:20250206T183000
DTSTAMP:20260422T190931
CREATED:20250203T110942Z
LAST-MODIFIED:20250205T190717Z
UID:7996-1738866600-1738866600@filarmonicabacau.ro
SUMMARY:Concert simfonic / Dirijor – Vlad Vizireanu / Solist – Valentin Șerban
DESCRIPTION:Solist – Valentin Șerban- vioară \nÎn program: \nFelix Mendelssohn Bartholdy – Concert pentru vioară și orchestră în re minor \nFelix Mendelssohn Bartholdy- Concert pentru vioară și orchestră în mi minor op.64 \nRobert Schumann- Simfonia a IV-a \n\nLocație: Centrul de Afaceri și Expoziții Bacău
URL:https://filarmonicabacau.ro/eveniment/concert-simfonic-centrul-de-afaceri-si-expozitii-bacau-dirijor-vlad-vizireanu/
CATEGORIES:Concerte
END:VEVENT
END:VCALENDAR